BEGIN:VCALENDAR
VERSION:2.0
PRODID:-//Stadsschutterij Culemborg - ECPv6.15.18//NONSGML v1.0//EN
CALSCALE:GREGORIAN
METHOD:PUBLISH
X-WR-CALNAME:Stadsschutterij Culemborg
X-ORIGINAL-URL:https://www.stadsschutterijculemborg.nl
X-WR-CALDESC:Evenementen voor Stadsschutterij Culemborg
REFRESH-INTERVAL;VALUE=DURATION:PT1H
X-Robots-Tag:noindex
X-PUBLISHED-TTL:PT1H
BEGIN:VTIMEZONE
TZID:Europe/Amsterdam
BEGIN:DAYLIGHT
TZOFFSETFROM:+0100
TZOFFSETTO:+0200
TZNAME:CEST
DTSTART:20230326T010000
END:DAYLIGHT
BEGIN:STANDARD
TZOFFSETFROM:+0200
TZOFFSETTO:+0100
TZNAME:CET
DTSTART:20231029T010000
END:STANDARD
BEGIN:DAYLIGHT
TZOFFSETFROM:+0100
TZOFFSETTO:+0200
TZNAME:CEST
DTSTART:20240331T010000
END:DAYLIGHT
BEGIN:STANDARD
TZOFFSETFROM:+0200
TZOFFSETTO:+0100
TZNAME:CET
DTSTART:20241027T010000
END:STANDARD
BEGIN:DAYLIGHT
TZOFFSETFROM:+0100
TZOFFSETTO:+0200
TZNAME:CEST
DTSTART:20250330T010000
END:DAYLIGHT
BEGIN:STANDARD
TZOFFSETFROM:+0200
TZOFFSETTO:+0100
TZNAME:CET
DTSTART:20251026T010000
END:STANDARD
BEGIN:DAYLIGHT
TZOFFSETFROM:+0100
TZOFFSETTO:+0200
TZNAME:CEST
DTSTART:20260329T010000
END:DAYLIGHT
BEGIN:STANDARD
TZOFFSETFROM:+0200
TZOFFSETTO:+0100
TZNAME:CET
DTSTART:20261025T010000
END:STANDARD
END:VTIMEZONE
BEGIN:VEVENT
DTSTART;TZID=Europe/Amsterdam:20250130T111000
DTEND;TZID=Europe/Amsterdam:20250130T121000
DTSTAMP:20260419T220637
CREATED:20250110T121657Z
LAST-MODIFIED:20250110T121659Z
UID:2453-1738235400-1738239000@www.stadsschutterijculemborg.nl
SUMMARY:Clinic Lek en Linge
DESCRIPTION:Eindexamenklas V6C
URL:https://www.stadsschutterijculemborg.nl/kalender/clinic-lek-en-linge-2/
LOCATION:Gelderland
ORGANIZER;CN="Bestuur":MAILTO:info@stadsschutterijculemborg.nl
END:VEVENT
BEGIN:VEVENT
DTSTART;TZID=Europe/Amsterdam:20250114T111000
DTEND;TZID=Europe/Amsterdam:20250114T121000
DTSTAMP:20260419T220637
CREATED:20250110T121352Z
LAST-MODIFIED:20250110T121354Z
UID:2451-1736853000-1736856600@www.stadsschutterijculemborg.nl
SUMMARY:Clinic Lek en Linge
DESCRIPTION:Eindexamenklas V6A
URL:https://www.stadsschutterijculemborg.nl/kalender/clinic-lek-en-linge/
LOCATION:Gelderland
ORGANIZER;CN="Bestuur":MAILTO:info@stadsschutterijculemborg.nl
END:VEVENT
BEGIN:VEVENT
DTSTART;TZID=Europe/Amsterdam:20250110T180000
DTEND;TZID=Europe/Amsterdam:20250110T210000
DTSTAMP:20260419T220637
CREATED:20250105T194210Z
LAST-MODIFIED:20250112T090302Z
UID:2425-1736532000-1736542800@www.stadsschutterijculemborg.nl
SUMMARY:Vechtsportschool Hyun Moo Culemborg
DESCRIPTION:
URL:https://www.stadsschutterijculemborg.nl/kalender/vechtsportschool-hyun-moo-culemborg/
LOCATION:Stadsschutterij Culemborg\, Anthonie van Diemenstraat 2B\, Culemborg\, Gelderland\, 4104 AE\, Nederland
ORGANIZER;CN="Vechtsportschool Hyun Moo Culemborg":MAILTO:communicatie@hyunmoo.nl
END:VEVENT
BEGIN:VEVENT
DTSTART;TZID=Europe/Amsterdam:20250110T153000
DTEND;TZID=Europe/Amsterdam:20250110T180000
DTSTAMP:20260419T220637
CREATED:20250109T072540Z
LAST-MODIFIED:20250109T072724Z
UID:2446-1736523000-1736532000@www.stadsschutterijculemborg.nl
SUMMARY:Kinderfeestje
DESCRIPTION:
URL:https://www.stadsschutterijculemborg.nl/kalender/kinderfeest-2/
LOCATION:Stadsschutterij Culemborg\, Anthonie van Diemenstraat 2B\, Culemborg\, Gelderland\, 4104 AE\, Nederland
ORGANIZER;CN="Bestuur":MAILTO:info@stadsschutterijculemborg.nl
END:VEVENT
BEGIN:VEVENT
DTSTART;TZID=Europe/Amsterdam:20250106T193000
DTEND;TZID=Europe/Amsterdam:20250106T213000
DTSTAMP:20260419T220637
CREATED:20241203T082002Z
LAST-MODIFIED:20241203T082004Z
UID:2356-1736191800-1736199000@www.stadsschutterijculemborg.nl
SUMMARY:Bestuursoverleg
DESCRIPTION:
URL:https://www.stadsschutterijculemborg.nl/kalender/bestuursoverleg-6/
LOCATION:Stadsschutterij Culemborg\, Anthonie van Diemenstraat 2B\, Culemborg\, Gelderland\, 4104 AE\, Nederland
ORGANIZER;CN="Bestuur":MAILTO:info@stadsschutterijculemborg.nl
END:VEVENT
BEGIN:VEVENT
DTSTART;TZID=Europe/Amsterdam:20250103T193000
DTEND;TZID=Europe/Amsterdam:20250103T213000
DTSTAMP:20260419T220637
CREATED:20241207T092744Z
LAST-MODIFIED:20241207T092745Z
UID:2372-1735932600-1735939800@www.stadsschutterijculemborg.nl
SUMMARY:Nieuwjaars verschieting
DESCRIPTION:Baan open en boogopbouw vanaf 19:00 uur
URL:https://www.stadsschutterijculemborg.nl/kalender/nieuwjaars-verschieting-2/
LOCATION:Stadsschutterij Culemborg\, Anthonie van Diemenstraat 2B\, Culemborg\, Gelderland\, 4104 AE\, Nederland
ORGANIZER;CN="Evenementencommissie":MAILTO:info@stadsschutterijculemborg.nl
END:VEVENT
BEGIN:VEVENT
DTSTART;TZID=Europe/Amsterdam:20241202T193000
DTEND;TZID=Europe/Amsterdam:20241202T213000
DTSTAMP:20260419T220637
CREATED:20241112T185027Z
LAST-MODIFIED:20241112T185028Z
UID:2244-1733167800-1733175000@www.stadsschutterijculemborg.nl
SUMMARY:Bestuursoverleg
DESCRIPTION:
URL:https://www.stadsschutterijculemborg.nl/kalender/bestuursoverleg-5/
LOCATION:Stadsschutterij Culemborg\, Anthonie van Diemenstraat 2B\, Culemborg\, Gelderland\, 4104 AE\, Nederland
ORGANIZER;CN="Bestuur":MAILTO:info@stadsschutterijculemborg.nl
END:VEVENT
BEGIN:VEVENT
DTSTART;TZID=Europe/Amsterdam:20241108T190000
DTEND;TZID=Europe/Amsterdam:20241108T210000
DTSTAMP:20260419T220637
CREATED:20231227T093331Z
LAST-MODIFIED:20240728T170636Z
UID:1863-1731092400-1731099600@www.stadsschutterijculemborg.nl
SUMMARY:Vechtsportschool Hyun Moo Culemborg
DESCRIPTION:
URL:https://www.stadsschutterijculemborg.nl/kalender/jung-do-kwan-12/
LOCATION:Stadsschutterij Culemborg\, Anthonie van Diemenstraat 2B\, Culemborg\, Gelderland\, 4104 AE\, Nederland
ORGANIZER;CN="Vechtsportschool Hyun Moo Culemborg":MAILTO:communicatie@hyunmoo.nl
END:VEVENT
BEGIN:VEVENT
DTSTART;TZID=Europe/Amsterdam:20241101T193000
DTEND;TZID=Europe/Amsterdam:20241101T213000
DTSTAMP:20260419T220637
CREATED:20240109T083644Z
LAST-MODIFIED:20240109T083645Z
UID:1891-1730489400-1730496600@www.stadsschutterijculemborg.nl
SUMMARY:Halloween verschieting
DESCRIPTION:
URL:https://www.stadsschutterijculemborg.nl/kalender/halloween-verschieting-2/
LOCATION:Stadsschutterij Culemborg\, Anthonie van Diemenstraat 2B\, Culemborg\, Gelderland\, 4104 AE\, Nederland
ORGANIZER;CN="Evenementencommissie":MAILTO:info@stadsschutterijculemborg.nl
END:VEVENT
BEGIN:VEVENT
DTSTART;TZID=Europe/Amsterdam:20241031T190000
DTEND;TZID=Europe/Amsterdam:20241031T220000
DTSTAMP:20260419T220637
CREATED:20240109T083805Z
LAST-MODIFIED:20240109T083806Z
UID:1893-1730401200-1730412000@www.stadsschutterijculemborg.nl
SUMMARY:Opbouw: Halloween verschieting
DESCRIPTION:Deze donderdag zal er geen gelegenheid zijn om op de binnenbaan te trainen/schieten. Er wordt gewerkt aan de opbouw voor de Halloween verschieting.
URL:https://www.stadsschutterijculemborg.nl/kalender/opbouw-halloween-verschieting/
LOCATION:Stadsschutterij Culemborg\, Anthonie van Diemenstraat 2B\, Culemborg\, Gelderland\, 4104 AE\, Nederland
ORGANIZER;CN="Evenementencommissie":MAILTO:info@stadsschutterijculemborg.nl
END:VEVENT
BEGIN:VEVENT
DTSTART;TZID=Europe/Amsterdam:20241025T140000
DTEND;TZID=Europe/Amsterdam:20241025T180000
DTSTAMP:20260419T220637
CREATED:20241016T123724Z
LAST-MODIFIED:20241016T123725Z
UID:2231-1729864800-1729879200@www.stadsschutterijculemborg.nl
SUMMARY:Kinderfeestje
DESCRIPTION:
URL:https://www.stadsschutterijculemborg.nl/kalender/kinderfeestje/
LOCATION:Stadsschutterij Culemborg\, Anthonie van Diemenstraat 2B\, Culemborg\, Gelderland\, 4104 AE\, Nederland
ORGANIZER;CN="Bestuur":MAILTO:info@stadsschutterijculemborg.nl
END:VEVENT
BEGIN:VEVENT
DTSTART;TZID=Europe/Amsterdam:20241001T193000
DTEND;TZID=Europe/Amsterdam:20241001T220000
DTSTAMP:20260419T220637
CREATED:20240109T083446Z
LAST-MODIFIED:20240109T083446Z
UID:1889-1727811000-1727820000@www.stadsschutterijculemborg.nl
SUMMARY:Wintercompetitie kick-off
DESCRIPTION:
URL:https://www.stadsschutterijculemborg.nl/kalender/wintercompetitie-kick-off-2/
LOCATION:Stadsschutterij Culemborg\, Anthonie van Diemenstraat 2B\, Culemborg\, Gelderland\, 4104 AE\, Nederland
ORGANIZER;CN="Wedstrijdcommisie":MAILTO:info@stadsschutterijculemborg.nl
END:VEVENT
BEGIN:VEVENT
DTSTART;TZID=Europe/Amsterdam:20240920T190000
DTEND;TZID=Europe/Amsterdam:20240920T210000
DTSTAMP:20260419T220637
CREATED:20231227T093246Z
LAST-MODIFIED:20240728T170651Z
UID:1861-1726858800-1726866000@www.stadsschutterijculemborg.nl
SUMMARY:Vechtsportschool Hyun Moo Culemborg
DESCRIPTION:
URL:https://www.stadsschutterijculemborg.nl/kalender/jung-do-kwan-11/
LOCATION:Stadsschutterij Culemborg\, Anthonie van Diemenstraat 2B\, Culemborg\, Gelderland\, 4104 AE\, Nederland
ORGANIZER;CN="Vechtsportschool Hyun Moo Culemborg":MAILTO:communicatie@hyunmoo.nl
END:VEVENT
BEGIN:VEVENT
DTSTART;TZID=Europe/Amsterdam:20240913T190000
DTEND;TZID=Europe/Amsterdam:20240913T210000
DTSTAMP:20260419T220637
CREATED:20231226T094119Z
LAST-MODIFIED:20231226T094120Z
UID:1851-1726254000-1726261200@www.stadsschutterijculemborg.nl
SUMMARY:Vrijdag 13e verschieting
DESCRIPTION:
URL:https://www.stadsschutterijculemborg.nl/kalender/vrijdag-13e-verschieting-3/
LOCATION:Stadsschutterij Culemborg\, Anthonie van Diemenstraat 2B\, Culemborg\, Gelderland\, 4104 AE\, Nederland
ORGANIZER;CN="Evenementencommissie":MAILTO:info@stadsschutterijculemborg.nl
END:VEVENT
BEGIN:VEVENT
DTSTART;TZID=Europe/Amsterdam:20240912T193000
DTEND;TZID=Europe/Amsterdam:20240912T220000
DTSTAMP:20260419T220637
CREATED:20240510T073822Z
LAST-MODIFIED:20240901T111722Z
UID:2058-1726169400-1726178400@www.stadsschutterijculemborg.nl
SUMMARY:Algemene ledenvergadering
DESCRIPTION:
URL:https://www.stadsschutterijculemborg.nl/kalender/algemene-ledenvergadering/
LOCATION:Stadsschutterij Culemborg\, Anthonie van Diemenstraat 2B\, Culemborg\, Gelderland\, 4104 AE\, Nederland
ORGANIZER;CN="Bestuur":MAILTO:info@stadsschutterijculemborg.nl
END:VEVENT
BEGIN:VEVENT
DTSTART;TZID=Europe/Amsterdam:20240712T190000
DTEND;TZID=Europe/Amsterdam:20240712T210000
DTSTAMP:20260419T220637
CREATED:20231227T093203Z
LAST-MODIFIED:20240728T170708Z
UID:1859-1720810800-1720818000@www.stadsschutterijculemborg.nl
SUMMARY:Vechtsportschool Hyun Moo Culemborg
DESCRIPTION:
URL:https://www.stadsschutterijculemborg.nl/kalender/jung-do-kwan-10/
LOCATION:Stadsschutterij Culemborg\, Anthonie van Diemenstraat 2B\, Culemborg\, Gelderland\, 4104 AE\, Nederland
ORGANIZER;CN="Vechtsportschool Hyun Moo Culemborg":MAILTO:communicatie@hyunmoo.nl
END:VEVENT
BEGIN:VEVENT
DTSTART;TZID=Europe/Amsterdam:20240623T100000
DTEND;TZID=Europe/Amsterdam:20240623T150000
DTSTAMP:20260419T220637
CREATED:20240109T083245Z
LAST-MODIFIED:20240109T083246Z
UID:1887-1719136800-1719154800@www.stadsschutterijculemborg.nl
SUMMARY:Koningschieten
DESCRIPTION:
URL:https://www.stadsschutterijculemborg.nl/kalender/koningschieten-2/
LOCATION:Stadsschutterij Culemborg\, Anthonie van Diemenstraat 2B\, Culemborg\, Gelderland\, 4104 AE\, Nederland
ORGANIZER;CN="Bestuur":MAILTO:info@stadsschutterijculemborg.nl
END:VEVENT
BEGIN:VEVENT
DTSTART;TZID=Europe/Amsterdam:20240519T100000
DTEND;TZID=Europe/Amsterdam:20240519T150000
DTSTAMP:20260419T220637
CREATED:20240109T083106Z
LAST-MODIFIED:20240109T083107Z
UID:1885-1716112800-1716130800@www.stadsschutterijculemborg.nl
SUMMARY:Oprichting wedstrijd
DESCRIPTION:
URL:https://www.stadsschutterijculemborg.nl/kalender/oprichting-wedstrijd/
LOCATION:Stadsschutterij Culemborg\, Anthonie van Diemenstraat 2B\, Culemborg\, Gelderland\, 4104 AE\, Nederland
ORGANIZER;CN="Wedstrijdcommisie":MAILTO:info@stadsschutterijculemborg.nl
END:VEVENT
BEGIN:VEVENT
DTSTART;TZID=Europe/Amsterdam:20240510T190000
DTEND;TZID=Europe/Amsterdam:20240510T210000
DTSTAMP:20260419T220637
CREATED:20231227T093108Z
LAST-MODIFIED:20240728T170739Z
UID:1857-1715367600-1715374800@www.stadsschutterijculemborg.nl
SUMMARY:Vechtsportschool Hyun Moo Culemborg
DESCRIPTION:
URL:https://www.stadsschutterijculemborg.nl/kalender/jung-do-kwan-9/
LOCATION:Stadsschutterij Culemborg\, Anthonie van Diemenstraat 2B\, Culemborg\, Gelderland\, 4104 AE\, Nederland
ORGANIZER;CN="Vechtsportschool Hyun Moo Culemborg":MAILTO:communicatie@hyunmoo.nl
END:VEVENT
BEGIN:VEVENT
DTSTART;TZID=Europe/Amsterdam:20240508T193000
DTEND;TZID=Europe/Amsterdam:20240508T210000
DTSTAMP:20260419T220637
CREATED:20240109T082001Z
LAST-MODIFIED:20240109T082340Z
UID:1875-1715196600-1715202000@www.stadsschutterijculemborg.nl
SUMMARY:Beginnerscursus
DESCRIPTION:De beginnerscursus is een 10 weken durende cursus\, waarin je alles leert over de beginselen van het boogschieten.
URL:https://www.stadsschutterijculemborg.nl/kalender/beginnerscursus-3/
LOCATION:Stadsschutterij Culemborg\, Anthonie van Diemenstraat 2B\, Culemborg\, Gelderland\, 4104 AE\, Nederland
ORGANIZER;CN="Bestuur":MAILTO:info@stadsschutterijculemborg.nl
END:VEVENT
BEGIN:VEVENT
DTSTART;TZID=Europe/Amsterdam:20240405T193000
DTEND;TZID=Europe/Amsterdam:20240405T213000
DTSTAMP:20260419T220637
CREATED:20240109T082951Z
LAST-MODIFIED:20240109T084053Z
UID:1883-1712345400-1712352600@www.stadsschutterijculemborg.nl
SUMMARY:Paas verschieting
DESCRIPTION:Aan het einde van de verschieting zullen de prijzen van de wintercompetitie worden uitgedeeld.
URL:https://www.stadsschutterijculemborg.nl/kalender/paas-verschieting/
LOCATION:Stadsschutterij Culemborg\, Anthonie van Diemenstraat 2B\, Culemborg\, Gelderland\, 4104 AE\, Nederland
ORGANIZER;CN="Evenementencommissie":MAILTO:info@stadsschutterijculemborg.nl
END:VEVENT
BEGIN:VEVENT
DTSTART;TZID=Europe/Amsterdam:20240308T190000
DTEND;TZID=Europe/Amsterdam:20240308T210000
DTSTAMP:20260419T220637
CREATED:20231227T093012Z
LAST-MODIFIED:20240728T170753Z
UID:1855-1709924400-1709931600@www.stadsschutterijculemborg.nl
SUMMARY:Vechtsportschool Hyun Moo Culemborg
DESCRIPTION:
URL:https://www.stadsschutterijculemborg.nl/kalender/jung-do-kwan-8/
LOCATION:Stadsschutterij Culemborg\, Anthonie van Diemenstraat 2B\, Culemborg\, Gelderland\, 4104 AE\, Nederland
ORGANIZER;CN="Vechtsportschool Hyun Moo Culemborg":MAILTO:communicatie@hyunmoo.nl
END:VEVENT
BEGIN:VEVENT
DTSTART;TZID=Europe/Amsterdam:20240303T100000
DTEND;TZID=Europe/Amsterdam:20240303T150000
DTSTAMP:20260419T220637
CREATED:20240109T082826Z
LAST-MODIFIED:20240114T093808Z
UID:1881-1709460000-1709478000@www.stadsschutterijculemborg.nl
SUMMARY:FITA met finalerondes
DESCRIPTION:
URL:https://www.stadsschutterijculemborg.nl/kalender/ssc-wedstrijd/
LOCATION:Stadsschutterij Culemborg\, Anthonie van Diemenstraat 2B\, Culemborg\, Gelderland\, 4104 AE\, Nederland
ORGANIZER;CN="Wedstrijdcommisie":MAILTO:info@stadsschutterijculemborg.nl
END:VEVENT
BEGIN:VEVENT
DTSTART;TZID=Europe/Amsterdam:20240224T150000
DTEND;TZID=Europe/Amsterdam:20240224T180000
DTSTAMP:20260419T220637
CREATED:20240201T073716Z
LAST-MODIFIED:20240201T074544Z
UID:1973-1708786800-1708797600@www.stadsschutterijculemborg.nl
SUMMARY:Clinic Biker Singles
DESCRIPTION:
URL:https://www.stadsschutterijculemborg.nl/kalender/clinic-motorclub-2/
LOCATION:Stadsschutterij Culemborg\, Anthonie van Diemenstraat 2B\, Culemborg\, Gelderland\, 4104 AE\, Nederland
ORGANIZER;CN="Bestuur":MAILTO:info@stadsschutterijculemborg.nl
END:VEVENT
BEGIN:VEVENT
DTSTART;TZID=Europe/Amsterdam:20240216T193000
DTEND;TZID=Europe/Amsterdam:20240216T213000
DTSTAMP:20260419T220637
CREATED:20240109T082645Z
LAST-MODIFIED:20240109T082646Z
UID:1879-1708111800-1708119000@www.stadsschutterijculemborg.nl
SUMMARY:Valentijns verschieting
DESCRIPTION:
URL:https://www.stadsschutterijculemborg.nl/kalender/valentijns-verschieting/
LOCATION:Stadsschutterij Culemborg\, Anthonie van Diemenstraat 2B\, Culemborg\, Gelderland\, 4104 AE\, Nederland
ORGANIZER;CN="Evenementencommissie":MAILTO:info@stadsschutterijculemborg.nl
END:VEVENT
BEGIN:VEVENT
DTSTART;TZID=Europe/Amsterdam:20240212T193000
DTEND;TZID=Europe/Amsterdam:20240212T213000
DTSTAMP:20260419T220637
CREATED:20240109T082205Z
LAST-MODIFIED:20240109T082206Z
UID:1877-1707766200-1707773400@www.stadsschutterijculemborg.nl
SUMMARY:Bestuursoverleg
DESCRIPTION:
URL:https://www.stadsschutterijculemborg.nl/kalender/bestuursoverleg-4/
LOCATION:Stadsschutterij Culemborg\, Anthonie van Diemenstraat 2B\, Culemborg\, Gelderland\, 4104 AE\, Nederland
ORGANIZER;CN="Bestuur":MAILTO:info@stadsschutterijculemborg.nl
END:VEVENT
BEGIN:VEVENT
DTSTART;TZID=Europe/Amsterdam:20240210T150000
DTEND;TZID=Europe/Amsterdam:20240210T180000
DTSTAMP:20260419T220637
CREATED:20240201T073549Z
LAST-MODIFIED:20240201T074606Z
UID:1971-1707577200-1707588000@www.stadsschutterijculemborg.nl
SUMMARY:Clinic Biker Singles
DESCRIPTION:
URL:https://www.stadsschutterijculemborg.nl/kalender/clinic-motorclub/
LOCATION:Stadsschutterij Culemborg\, Anthonie van Diemenstraat 2B\, Culemborg\, Gelderland\, 4104 AE\, Nederland
ORGANIZER;CN="Bestuur":MAILTO:info@stadsschutterijculemborg.nl
END:VEVENT
BEGIN:VEVENT
DTSTART;TZID=Europe/Amsterdam:20240209T200000
DTEND;TZID=Europe/Amsterdam:20240209T220000
DTSTAMP:20260419T220637
CREATED:20240201T070613Z
LAST-MODIFIED:20240201T070614Z
UID:1969-1707508800-1707516000@www.stadsschutterijculemborg.nl
SUMMARY:Clinic handboogschieten
DESCRIPTION:
URL:https://www.stadsschutterijculemborg.nl/kalender/clinic-handboogschieten-2/
LOCATION:Stadsschutterij Culemborg\, Anthonie van Diemenstraat 2B\, Culemborg\, Gelderland\, 4104 AE\, Nederland
ORGANIZER;CN="Bestuur":MAILTO:info@stadsschutterijculemborg.nl
END:VEVENT
BEGIN:VEVENT
DTSTART;TZID=Europe/Amsterdam:20240119T190000
DTEND;TZID=Europe/Amsterdam:20240119T213000
DTSTAMP:20260419T220637
CREATED:20231226T093618Z
LAST-MODIFIED:20231226T093618Z
UID:1849-1705690800-1705699800@www.stadsschutterijculemborg.nl
SUMMARY:Clinic handboogschieten
DESCRIPTION:
URL:https://www.stadsschutterijculemborg.nl/kalender/clinic-handboogschieten/
LOCATION:Stadsschutterij Culemborg\, Anthonie van Diemenstraat 2B\, Culemborg\, Gelderland\, 4104 AE\, Nederland
ORGANIZER;CN="Bestuur":MAILTO:info@stadsschutterijculemborg.nl
END:VEVENT
BEGIN:VEVENT
DTSTART;TZID=Europe/Amsterdam:20240112T190000
DTEND;TZID=Europe/Amsterdam:20240112T210000
DTSTAMP:20260419T220637
CREATED:20231227T092847Z
LAST-MODIFIED:20240728T170824Z
UID:1853-1705086000-1705093200@www.stadsschutterijculemborg.nl
SUMMARY:Vechtsportschool Hyun Moo Culemborg
DESCRIPTION:
URL:https://www.stadsschutterijculemborg.nl/kalender/jung-do-kwan-7/
LOCATION:Stadsschutterij Culemborg\, Anthonie van Diemenstraat 2B\, Culemborg\, Gelderland\, 4104 AE\, Nederland
ORGANIZER;CN="Vechtsportschool Hyun Moo Culemborg":MAILTO:communicatie@hyunmoo.nl
END:VEVENT
END:VCALENDAR