BEGIN:VCALENDAR
VERSION:2.0
PRODID:-//Stadsschutterij Culemborg - ECPv6.15.18//NONSGML v1.0//EN
CALSCALE:GREGORIAN
METHOD:PUBLISH
X-WR-CALNAME:Stadsschutterij Culemborg
X-ORIGINAL-URL:https://www.stadsschutterijculemborg.nl
X-WR-CALDESC:Evenementen voor Stadsschutterij Culemborg
REFRESH-INTERVAL;VALUE=DURATION:PT1H
X-Robots-Tag:noindex
X-PUBLISHED-TTL:PT1H
BEGIN:VTIMEZONE
TZID:Europe/Amsterdam
BEGIN:DAYLIGHT
TZOFFSETFROM:+0100
TZOFFSETTO:+0200
TZNAME:CEST
DTSTART:20220327T010000
END:DAYLIGHT
BEGIN:STANDARD
TZOFFSETFROM:+0200
TZOFFSETTO:+0100
TZNAME:CET
DTSTART:20221030T010000
END:STANDARD
BEGIN:DAYLIGHT
TZOFFSETFROM:+0100
TZOFFSETTO:+0200
TZNAME:CEST
DTSTART:20230326T010000
END:DAYLIGHT
BEGIN:STANDARD
TZOFFSETFROM:+0200
TZOFFSETTO:+0100
TZNAME:CET
DTSTART:20231029T010000
END:STANDARD
BEGIN:DAYLIGHT
TZOFFSETFROM:+0100
TZOFFSETTO:+0200
TZNAME:CEST
DTSTART:20240331T010000
END:DAYLIGHT
BEGIN:STANDARD
TZOFFSETFROM:+0200
TZOFFSETTO:+0100
TZNAME:CET
DTSTART:20241027T010000
END:STANDARD
END:VTIMEZONE
BEGIN:VEVENT
DTSTART;TZID=Europe/Amsterdam:20230310T190000
DTEND;TZID=Europe/Amsterdam:20230310T210000
DTSTAMP:20260420T040346
CREATED:20230815T112215Z
LAST-MODIFIED:20230815T124928Z
UID:1229-1678474800-1678482000@www.stadsschutterijculemborg.nl
SUMMARY:Jung Do Kwan
DESCRIPTION:
URL:https://www.stadsschutterijculemborg.nl/kalender/jung-do-kwan-2/
LOCATION:Stadsschutterij Culemborg\, Anthonie van Diemenstraat 2B\, Culemborg\, Gelderland\, 4104 AE\, Nederland
ORGANIZER;CN="Vechtsportschool Hyun Moo Culemborg":MAILTO:communicatie@hyunmoo.nl
END:VEVENT
BEGIN:VEVENT
DTSTART;TZID=Europe/Amsterdam:20230212T110000
DTEND;TZID=Europe/Amsterdam:20230212T130000
DTSTAMP:20260420T040346
CREATED:20230815T120914Z
LAST-MODIFIED:20230815T124952Z
UID:1264-1676199600-1676206800@www.stadsschutterijculemborg.nl
SUMMARY:Valentijns verschieting
DESCRIPTION:
URL:https://www.stadsschutterijculemborg.nl/kalender/valentijnsverschieting/
LOCATION:Stadsschutterij Culemborg\, Anthonie van Diemenstraat 2B\, Culemborg\, Gelderland\, 4104 AE\, Nederland
ORGANIZER;CN="Evenementencommissie":MAILTO:info@stadsschutterijculemborg.nl
END:VEVENT
BEGIN:VEVENT
DTSTART;TZID=Europe/Amsterdam:20230120T190000
DTEND;TZID=Europe/Amsterdam:20230120T210000
DTSTAMP:20260420T040346
CREATED:20230815T112022Z
LAST-MODIFIED:20230815T125020Z
UID:1227-1674241200-1674248400@www.stadsschutterijculemborg.nl
SUMMARY:Jung Do Kwan
DESCRIPTION:
URL:https://www.stadsschutterijculemborg.nl/kalender/jung-do-kwan/
LOCATION:Stadsschutterij Culemborg\, Anthonie van Diemenstraat 2B\, Culemborg\, Gelderland\, 4104 AE\, Nederland
ORGANIZER;CN="Vechtsportschool Hyun Moo Culemborg":MAILTO:communicatie@hyunmoo.nl
END:VEVENT
BEGIN:VEVENT
DTSTART;TZID=Europe/Amsterdam:20230113T190000
DTEND;TZID=Europe/Amsterdam:20230113T210000
DTSTAMP:20260420T040346
CREATED:20230815T120622Z
LAST-MODIFIED:20230815T125043Z
UID:1262-1673636400-1673643600@www.stadsschutterijculemborg.nl
SUMMARY:Vrijdag 13e verschieting
DESCRIPTION:
URL:https://www.stadsschutterijculemborg.nl/kalender/vrijdag-13e-verschieting/
LOCATION:Stadsschutterij Culemborg\, Anthonie van Diemenstraat 2B\, Culemborg\, Gelderland\, 4104 AE\, Nederland
ORGANIZER;CN="Evenementencommissie":MAILTO:info@stadsschutterijculemborg.nl
END:VEVENT
BEGIN:VEVENT
DTSTART;TZID=Europe/Amsterdam:20230106T190000
DTEND;TZID=Europe/Amsterdam:20230106T220000
DTSTAMP:20260420T040346
CREATED:20230815T120500Z
LAST-MODIFIED:20230815T125104Z
UID:1260-1673031600-1673042400@www.stadsschutterijculemborg.nl
SUMMARY:Nieuwjaar verschieting
DESCRIPTION:
URL:https://www.stadsschutterijculemborg.nl/kalender/nieuwjaarsverschieting/
LOCATION:Stadsschutterij Culemborg\, Anthonie van Diemenstraat 2B\, Culemborg\, Gelderland\, 4104 AE\, Nederland
ORGANIZER;CN="Evenementencommissie":MAILTO:info@stadsschutterijculemborg.nl
END:VEVENT
END:VCALENDAR