BEGIN:VCALENDAR
VERSION:2.0
PRODID:-//Stadsschutterij Culemborg - ECPv6.15.18//NONSGML v1.0//EN
CALSCALE:GREGORIAN
METHOD:PUBLISH
X-WR-CALNAME:Stadsschutterij Culemborg
X-ORIGINAL-URL:https://www.stadsschutterijculemborg.nl
X-WR-CALDESC:Evenementen voor Stadsschutterij Culemborg
REFRESH-INTERVAL;VALUE=DURATION:PT1H
X-Robots-Tag:noindex
X-PUBLISHED-TTL:PT1H
BEGIN:VTIMEZONE
TZID:Europe/Amsterdam
BEGIN:DAYLIGHT
TZOFFSETFROM:+0100
TZOFFSETTO:+0200
TZNAME:CEST
DTSTART:20240331T010000
END:DAYLIGHT
BEGIN:STANDARD
TZOFFSETFROM:+0200
TZOFFSETTO:+0100
TZNAME:CET
DTSTART:20241027T010000
END:STANDARD
BEGIN:DAYLIGHT
TZOFFSETFROM:+0100
TZOFFSETTO:+0200
TZNAME:CEST
DTSTART:20250330T010000
END:DAYLIGHT
BEGIN:STANDARD
TZOFFSETFROM:+0200
TZOFFSETTO:+0100
TZNAME:CET
DTSTART:20251026T010000
END:STANDARD
BEGIN:DAYLIGHT
TZOFFSETFROM:+0100
TZOFFSETTO:+0200
TZNAME:CEST
DTSTART:20260329T010000
END:DAYLIGHT
BEGIN:STANDARD
TZOFFSETFROM:+0200
TZOFFSETTO:+0100
TZNAME:CET
DTSTART:20261025T010000
END:STANDARD
END:VTIMEZONE
BEGIN:VEVENT
DTSTART;TZID=Europe/Amsterdam:20250622T100000
DTEND;TZID=Europe/Amsterdam:20250622T113000
DTSTAMP:20260419T154548
CREATED:20250530T165632Z
LAST-MODIFIED:20250530T165633Z
UID:2645-1750586400-1750591800@www.stadsschutterijculemborg.nl
SUMMARY:Zomercompetitie
DESCRIPTION:Zomercompetitie. Deur open vanaf 09:30 uur
URL:https://www.stadsschutterijculemborg.nl/kalender/zomercompetitie-4/
LOCATION:Stadsschutterij Culemborg\, Anthonie van Diemenstraat 2B\, Culemborg\, Gelderland\, 4104 AE\, Nederland
END:VEVENT
BEGIN:VEVENT
DTSTART;TZID=Europe/Amsterdam:20250619T200000
DTEND;TZID=Europe/Amsterdam:20250619T213000
DTSTAMP:20260419T154548
CREATED:20250418T121127Z
LAST-MODIFIED:20250429T100223Z
UID:2572-1750363200-1750368600@www.stadsschutterijculemborg.nl
SUMMARY:Zomercompetitie
DESCRIPTION:
URL:https://www.stadsschutterijculemborg.nl/kalender/donderdagavond-competitie-8/
LOCATION:Stadsschutterij Culemborg\, Anthonie van Diemenstraat 2B\, Culemborg\, Gelderland\, 4104 AE\, Nederland
END:VEVENT
BEGIN:VEVENT
DTSTART;TZID=Europe/Amsterdam:20250616T193000
DTEND;TZID=Europe/Amsterdam:20250616T213000
DTSTAMP:20260419T154548
CREATED:20250519T184812Z
LAST-MODIFIED:20250519T184813Z
UID:2624-1750102200-1750109400@www.stadsschutterijculemborg.nl
SUMMARY:bestuurs vergadering
DESCRIPTION:bestuurs vergadering
URL:https://www.stadsschutterijculemborg.nl/kalender/bestuurs-vergadering-5/
LOCATION:Stadsschutterij Culemborg\, Anthonie van Diemenstraat 2B\, Culemborg\, Gelderland\, 4104 AE\, Nederland
ORGANIZER;CN="Bestuur":MAILTO:info@stadsschutterijculemborg.nl
END:VEVENT
BEGIN:VEVENT
DTSTART;TZID=Europe/Amsterdam:20250615T100000
DTEND;TZID=Europe/Amsterdam:20250615T113000
DTSTAMP:20260419T154548
CREATED:20250530T165537Z
LAST-MODIFIED:20250530T165538Z
UID:2643-1749981600-1749987000@www.stadsschutterijculemborg.nl
SUMMARY:Zomercompetitie
DESCRIPTION:Zomercompetitie. Deur open vanaf 09:30 uur
URL:https://www.stadsschutterijculemborg.nl/kalender/zomercompetitie-3/
LOCATION:Stadsschutterij Culemborg\, Anthonie van Diemenstraat 2B\, Culemborg\, Gelderland\, 4104 AE\, Nederland
END:VEVENT
BEGIN:VEVENT
DTSTART;TZID=Europe/Amsterdam:20250613T193000
DTEND;TZID=Europe/Amsterdam:20250613T220000
DTSTAMP:20260419T154548
CREATED:20250529T124255Z
LAST-MODIFIED:20250529T124256Z
UID:2627-1749843000-1749852000@www.stadsschutterijculemborg.nl
SUMMARY:vrijdag de 13de verschieting
DESCRIPTION:baan open vanaf 19:30 aanvang wedstrijd 20:00
URL:https://www.stadsschutterijculemborg.nl/kalender/vrijdag-de-13de-verschieting/
LOCATION:Stadsschutterij Culemborg\, Anthonie van Diemenstraat 2B\, Culemborg\, Gelderland\, 4104 AE\, Nederland
ORGANIZER;CN="Evenementencommissie":MAILTO:info@stadsschutterijculemborg.nl
END:VEVENT
BEGIN:VEVENT
DTSTART;TZID=Europe/Amsterdam:20250613T193000
DTEND;TZID=Europe/Amsterdam:20250613T213000
DTSTAMP:20260419T154548
CREATED:20250530T062820Z
LAST-MODIFIED:20250530T062821Z
UID:2632-1749843000-1749850200@www.stadsschutterijculemborg.nl
SUMMARY:Vrijdag de 13de verschieting
DESCRIPTION:Baan open vanaf 19:00 aanvang wedstrijd 19:30
URL:https://www.stadsschutterijculemborg.nl/kalender/vrijdag-de-13de-verschieting-2/
LOCATION:Stadsschutterij Culemborg\, Anthonie van Diemenstraat 2B\, Culemborg\, Gelderland\, 4104 AE\, Nederland
ORGANIZER;CN="Evenementencommissie":MAILTO:info@stadsschutterijculemborg.nl
END:VEVENT
BEGIN:VEVENT
DTSTART;TZID=Europe/Amsterdam:20250612T200000
DTEND;TZID=Europe/Amsterdam:20250612T213000
DTSTAMP:20260419T154548
CREATED:20250418T121028Z
LAST-MODIFIED:20250429T100215Z
UID:2570-1749758400-1749763800@www.stadsschutterijculemborg.nl
SUMMARY:Zomercompetitie
DESCRIPTION:
URL:https://www.stadsschutterijculemborg.nl/kalender/donderdagavond-competitie-7/
LOCATION:Stadsschutterij Culemborg\, Anthonie van Diemenstraat 2B\, Culemborg\, Gelderland\, 4104 AE\, Nederland
END:VEVENT
BEGIN:VEVENT
DTSTART;TZID=Europe/Amsterdam:20250608T100000
DTEND;TZID=Europe/Amsterdam:20250608T113000
DTSTAMP:20260419T154548
CREATED:20250530T165447Z
LAST-MODIFIED:20250530T165449Z
UID:2641-1749376800-1749382200@www.stadsschutterijculemborg.nl
SUMMARY:Zomercompetitie
DESCRIPTION:Zomercompetitie. Deur open vanaf 09:30 uur
URL:https://www.stadsschutterijculemborg.nl/kalender/zomercompetitie-2/
LOCATION:Stadsschutterij Culemborg\, Anthonie van Diemenstraat 2B\, Culemborg\, Gelderland\, 4104 AE\, Nederland
END:VEVENT
BEGIN:VEVENT
DTSTART;TZID=Europe/Amsterdam:20250606T140000
DTEND;TZID=Europe/Amsterdam:20250606T180000
DTSTAMP:20260419T154548
CREATED:20250606T075712Z
LAST-MODIFIED:20250606T075713Z
UID:2659-1749218400-1749232800@www.stadsschutterijculemborg.nl
SUMMARY:Clinic
DESCRIPTION:
URL:https://www.stadsschutterijculemborg.nl/kalender/clinic/
LOCATION:Gelderland
END:VEVENT
BEGIN:VEVENT
DTSTART;TZID=Europe/Amsterdam:20250605T200000
DTEND;TZID=Europe/Amsterdam:20250605T213000
DTSTAMP:20260419T154548
CREATED:20250418T120931Z
LAST-MODIFIED:20250429T100207Z
UID:2568-1749153600-1749159000@www.stadsschutterijculemborg.nl
SUMMARY:Zomercompetitie
DESCRIPTION:
URL:https://www.stadsschutterijculemborg.nl/kalender/donderdagavond-competitie-6/
LOCATION:Stadsschutterij Culemborg\, Anthonie van Diemenstraat 2B\, Culemborg\, Gelderland\, 4104 AE\, Nederland
END:VEVENT
BEGIN:VEVENT
DTSTART;TZID=Europe/Amsterdam:20250601T100000
DTEND;TZID=Europe/Amsterdam:20250601T113000
DTSTAMP:20260419T154548
CREATED:20250530T165338Z
LAST-MODIFIED:20250530T165340Z
UID:2639-1748772000-1748777400@www.stadsschutterijculemborg.nl
SUMMARY:Zomercompetitie
DESCRIPTION:Zomercompetitie. Deur open vanaf 09:30 uur
URL:https://www.stadsschutterijculemborg.nl/kalender/zomercompetitie/
LOCATION:Stadsschutterij Culemborg\, Anthonie van Diemenstraat 2B\, Culemborg\, Gelderland\, 4104 AE\, Nederland
END:VEVENT
BEGIN:VEVENT
DTSTART;TZID=Europe/Amsterdam:20250529T200000
DTEND;TZID=Europe/Amsterdam:20250529T213000
DTSTAMP:20260419T154548
CREATED:20250418T120815Z
LAST-MODIFIED:20250429T100157Z
UID:2566-1748548800-1748554200@www.stadsschutterijculemborg.nl
SUMMARY:Zomercompetitie
DESCRIPTION:
URL:https://www.stadsschutterijculemborg.nl/kalender/donderdagavond-competitie-5/
LOCATION:Stadsschutterij Culemborg\, Anthonie van Diemenstraat 2B\, Culemborg\, Gelderland\, 4104 AE\, Nederland
END:VEVENT
BEGIN:VEVENT
DTSTART;TZID=Europe/Amsterdam:20250525T100000
DTEND;TZID=Europe/Amsterdam:20250525T160000
DTSTAMP:20260419T154548
CREATED:20250330T175004Z
LAST-MODIFIED:20250330T175140Z
UID:2532-1748167200-1748188800@www.stadsschutterijculemborg.nl
SUMMARY:koningschieten
DESCRIPTION:koningschieten
URL:https://www.stadsschutterijculemborg.nl/kalender/koningschieten-3/
LOCATION:Stadsschutterij Culemborg\, Anthonie van Diemenstraat 2B\, Culemborg\, Gelderland\, 4104 AE\, Nederland
ORGANIZER;CN="Bestuur":MAILTO:info@stadsschutterijculemborg.nl
END:VEVENT
BEGIN:VEVENT
DTSTART;TZID=Europe/Amsterdam:20250522T200000
DTEND;TZID=Europe/Amsterdam:20250522T213000
DTSTAMP:20260419T154548
CREATED:20250418T120721Z
LAST-MODIFIED:20250429T100149Z
UID:2564-1747944000-1747949400@www.stadsschutterijculemborg.nl
SUMMARY:Zomercompetitie
DESCRIPTION:
URL:https://www.stadsschutterijculemborg.nl/kalender/donderdagavond-competitie-4/
LOCATION:Stadsschutterij Culemborg\, Anthonie van Diemenstraat 2B\, Culemborg\, Gelderland\, 4104 AE\, Nederland
END:VEVENT
BEGIN:VEVENT
DTSTART;TZID=Europe/Amsterdam:20250519T193000
DTEND;TZID=Europe/Amsterdam:20250519T213000
DTSTAMP:20260419T154548
CREATED:20250415T192432Z
LAST-MODIFIED:20250415T192433Z
UID:2545-1747683000-1747690200@www.stadsschutterijculemborg.nl
SUMMARY:Bestuurs vergadering
DESCRIPTION:Bestuurs vergadering
URL:https://www.stadsschutterijculemborg.nl/kalender/bestuurs-vergadering-4/
LOCATION:Stadsschutterij Culemborg\, Anthonie van Diemenstraat 2B\, Culemborg\, Gelderland\, 4104 AE\, Nederland
ORGANIZER;CN="Bestuur":MAILTO:info@stadsschutterijculemborg.nl
END:VEVENT
BEGIN:VEVENT
DTSTART;TZID=Europe/Amsterdam:20250515T200000
DTEND;TZID=Europe/Amsterdam:20250515T213000
DTSTAMP:20260419T154548
CREATED:20250418T120613Z
LAST-MODIFIED:20250429T100125Z
UID:2562-1747339200-1747344600@www.stadsschutterijculemborg.nl
SUMMARY:Zomercompetitie
DESCRIPTION:
URL:https://www.stadsschutterijculemborg.nl/kalender/donderdagavond-competitie-3/
LOCATION:Stadsschutterij Culemborg\, Anthonie van Diemenstraat 2B\, Culemborg\, Gelderland\, 4104 AE\, Nederland
END:VEVENT
BEGIN:VEVENT
DTSTART;TZID=Europe/Amsterdam:20250509T180000
DTEND;TZID=Europe/Amsterdam:20250509T210000
DTSTAMP:20260419T154548
CREATED:20250109T070437Z
LAST-MODIFIED:20250112T090217Z
UID:2438-1746813600-1746824400@www.stadsschutterijculemborg.nl
SUMMARY:Vechtsportschool Hyun Moo Culemborg
DESCRIPTION:
URL:https://www.stadsschutterijculemborg.nl/kalender/vechtsportschool-hyun-moo-culemborg-3/
LOCATION:Stadsschutterij Culemborg\, Anthonie van Diemenstraat 2B\, Culemborg\, Gelderland\, 4104 AE\, Nederland
ORGANIZER;CN="Vechtsportschool Hyun Moo Culemborg":MAILTO:communicatie@hyunmoo.nl
END:VEVENT
BEGIN:VEVENT
DTSTART;TZID=Europe/Amsterdam:20250508T200000
DTEND;TZID=Europe/Amsterdam:20250508T213000
DTSTAMP:20260419T154548
CREATED:20250418T120453Z
LAST-MODIFIED:20250429T100109Z
UID:2560-1746734400-1746739800@www.stadsschutterijculemborg.nl
SUMMARY:Zomercompetitie
DESCRIPTION:
URL:https://www.stadsschutterijculemborg.nl/kalender/donderdagavond-competitie-2/
LOCATION:Stadsschutterij Culemborg\, Anthonie van Diemenstraat 2B\, Culemborg\, Gelderland\, 4104 AE\, Nederland
END:VEVENT
BEGIN:VEVENT
DTSTART;TZID=Europe/Amsterdam:20250501T200000
DTEND;TZID=Europe/Amsterdam:20250501T213000
DTSTAMP:20260419T154548
CREATED:20250418T120246Z
LAST-MODIFIED:20250429T100045Z
UID:2558-1746129600-1746135000@www.stadsschutterijculemborg.nl
SUMMARY:Zomercompetitie
DESCRIPTION:Zomercompetitie
URL:https://www.stadsschutterijculemborg.nl/kalender/donderdagavond-competitie/
LOCATION:Stadsschutterij Culemborg\, Anthonie van Diemenstraat 2B\, Culemborg\, Gelderland\, 4104 AE\, Nederland
END:VEVENT
BEGIN:VEVENT
DTSTART;TZID=Europe/Amsterdam:20250429T193000
DTEND;TZID=Europe/Amsterdam:20250429T213000
DTSTAMP:20260419T154548
CREATED:20250330T150301Z
LAST-MODIFIED:20250330T150302Z
UID:2529-1745955000-1745962200@www.stadsschutterijculemborg.nl
SUMMARY:paasverschieting
DESCRIPTION:paasverschieting
URL:https://www.stadsschutterijculemborg.nl/kalender/paasverschieting-2/
LOCATION:Stadsschutterij Culemborg\, Anthonie van Diemenstraat 2B\, Culemborg\, Gelderland\, 4104 AE\, Nederland
ORGANIZER;CN="Evenementencommissie":MAILTO:info@stadsschutterijculemborg.nl
END:VEVENT
BEGIN:VEVENT
DTSTART;TZID=Europe/Amsterdam:20250417T200000
DTEND;TZID=Europe/Amsterdam:20250417T220000
DTSTAMP:20260419T154548
CREATED:20250311T161840Z
LAST-MODIFIED:20250311T161841Z
UID:2516-1744920000-1744927200@www.stadsschutterijculemborg.nl
SUMMARY:alv vergadering
DESCRIPTION:alv vergadering
URL:https://www.stadsschutterijculemborg.nl/kalender/alv-vergadering/
LOCATION:Stadsschutterij Culemborg\, Anthonie van Diemenstraat 2B\, Culemborg\, Gelderland\, 4104 AE\, Nederland
ORGANIZER;CN="Bestuur":MAILTO:info@stadsschutterijculemborg.nl
END:VEVENT
BEGIN:VEVENT
DTSTART;TZID=Europe/Amsterdam:20250414T193000
DTEND;TZID=Europe/Amsterdam:20250414T213000
DTSTAMP:20260419T154548
CREATED:20250311T161344Z
LAST-MODIFIED:20250311T161345Z
UID:2514-1744659000-1744666200@www.stadsschutterijculemborg.nl
SUMMARY:bestuurs vergadering
DESCRIPTION:bestuurs vergadering
URL:https://www.stadsschutterijculemborg.nl/kalender/bestuurs-vergadering-3/
LOCATION:Stadsschutterij Culemborg\, Anthonie van Diemenstraat 2B\, Culemborg\, Gelderland\, 4104 AE\, Nederland
ORGANIZER;CN="Bestuur":MAILTO:info@stadsschutterijculemborg.nl
END:VEVENT
BEGIN:VEVENT
DTSTART;TZID=Europe/Amsterdam:20250401T193000
DTEND;TZID=Europe/Amsterdam:20250401T213000
DTSTAMP:20260419T154548
CREATED:20250320T202405Z
LAST-MODIFIED:20250320T202407Z
UID:2523-1743535800-1743543000@www.stadsschutterijculemborg.nl
SUMMARY:einde wintercompetitie en prijsuitreiking
DESCRIPTION:einde wintercompetitie en prijsuitreiking
URL:https://www.stadsschutterijculemborg.nl/kalender/einde-wintercompetitie-en-prijsuitreiking/
LOCATION:Stadsschutterij Culemborg\, Anthonie van Diemenstraat 2B\, Culemborg\, Gelderland\, 4104 AE\, Nederland
END:VEVENT
BEGIN:VEVENT
DTSTART;TZID=Europe/Amsterdam:20250326T124500
DTEND;TZID=Europe/Amsterdam:20250326T144500
DTSTAMP:20260419T154548
CREATED:20250118T161620Z
LAST-MODIFIED:20250118T161621Z
UID:2465-1742993100-1743000300@www.stadsschutterijculemborg.nl
SUMMARY:Lek en Linge dag II - 2e clinic
DESCRIPTION:
URL:https://www.stadsschutterijculemborg.nl/kalender/lek-en-linge-dag-ii-2e-clinic/
LOCATION:Gelderland
END:VEVENT
BEGIN:VEVENT
DTSTART;TZID=Europe/Amsterdam:20250326T093000
DTEND;TZID=Europe/Amsterdam:20250326T113000
DTSTAMP:20260419T154548
CREATED:20250118T161436Z
LAST-MODIFIED:20250118T161438Z
UID:2463-1742981400-1742988600@www.stadsschutterijculemborg.nl
SUMMARY:Lek en Linge dag II - 1e clinic
DESCRIPTION:
URL:https://www.stadsschutterijculemborg.nl/kalender/lek-en-linge-dag-ii-1e-clinic/
LOCATION:Gelderland
END:VEVENT
BEGIN:VEVENT
DTSTART;TZID=Europe/Amsterdam:20250310T193000
DTEND;TZID=Europe/Amsterdam:20250310T213000
DTSTAMP:20260419T154548
CREATED:20250210T212211Z
LAST-MODIFIED:20250210T212211Z
UID:2480-1741635000-1741642200@www.stadsschutterijculemborg.nl
SUMMARY:bestuurs vergadering
DESCRIPTION:bestuurs vergadering
URL:https://www.stadsschutterijculemborg.nl/kalender/bestuurs-vergadering-2/
LOCATION:Stadsschutterij Culemborg\, Anthonie van Diemenstraat 2B\, Culemborg\, Gelderland\, 4104 AE\, Nederland
ORGANIZER;CN="Bestuur":MAILTO:info@stadsschutterijculemborg.nl
END:VEVENT
BEGIN:VEVENT
DTSTART;TZID=Europe/Amsterdam:20250301T150000
DTEND;TZID=Europe/Amsterdam:20250301T180000
DTSTAMP:20260419T154548
CREATED:20250118T161929Z
LAST-MODIFIED:20250118T161930Z
UID:2467-1740841200-1740852000@www.stadsschutterijculemborg.nl
SUMMARY:Clinic Motorclub Biker Singles
DESCRIPTION:
URL:https://www.stadsschutterijculemborg.nl/kalender/clinic-motorclub-biker-singles/
LOCATION:Gelderland
END:VEVENT
BEGIN:VEVENT
DTSTART;TZID=Europe/Amsterdam:20250214T193000
DTEND;TZID=Europe/Amsterdam:20250214T213000
DTSTAMP:20260419T154548
CREATED:20250107T200951Z
LAST-MODIFIED:20250109T065610Z
UID:2429-1739561400-1739568600@www.stadsschutterijculemborg.nl
SUMMARY:Valentijns verschieting
DESCRIPTION:Valentijns verschieting
URL:https://www.stadsschutterijculemborg.nl/kalender/valentijns-verschieting-2/
LOCATION:Stadsschutterij Culemborg\, Anthonie van Diemenstraat 2B\, Culemborg\, Gelderland\, 4104 AE\, Nederland
ORGANIZER;CN="Evenementencommissie":MAILTO:info@stadsschutterijculemborg.nl
END:VEVENT
BEGIN:VEVENT
DTSTART;TZID=Europe/Amsterdam:20250210T193000
DTEND;TZID=Europe/Amsterdam:20250210T213000
DTSTAMP:20260419T154548
CREATED:20250107T200310Z
LAST-MODIFIED:20250109T065734Z
UID:2427-1739215800-1739223000@www.stadsschutterijculemborg.nl
SUMMARY:Bestuursvergadering
DESCRIPTION:Bestuurs overleg
URL:https://www.stadsschutterijculemborg.nl/kalender/bestuurs-vergadering/
LOCATION:Stadsschutterij Culemborg\, Anthonie van Diemenstraat 2B\, Culemborg\, Gelderland\, 4104 AE\, Nederland
ORGANIZER;CN="Bestuur":MAILTO:info@stadsschutterijculemborg.nl
END:VEVENT
BEGIN:VEVENT
DTSTART;TZID=Europe/Amsterdam:20250201T150000
DTEND;TZID=Europe/Amsterdam:20250201T180000
DTSTAMP:20260419T154548
CREATED:20250110T121945Z
LAST-MODIFIED:20250110T122330Z
UID:2455-1738422000-1738432800@www.stadsschutterijculemborg.nl
SUMMARY:Clinic Motorclub Biker Singles
DESCRIPTION:
URL:https://www.stadsschutterijculemborg.nl/kalender/clinic-biker-singles/
LOCATION:Gelderland
ORGANIZER;CN="Bestuur":MAILTO:info@stadsschutterijculemborg.nl
END:VEVENT
END:VCALENDAR